BEGIN:VCALENDAR
VERSION:2.0
PRODID:ClocktowerLeamington
X-WR-CALNAME:Clocktower Leamington
NAME:Clocktower Leamington
CALSCALE:GREGORIAN
BEGIN:VTIMEZONE
TZID:Europe/London
TZURL:https://www.tzurl.org/zoneinfo-outlook/Europe/London
X-LIC-LOCATION:Europe/London
BEGIN:DAYLIGHT
TZNAME:BST
TZOFFSETFROM:+0000
TZOFFSETTO:+0100
DTSTART:19700329T010000
RRULE:FREQ=YEARLY;BYMONTH=3;BYDAY=-1SU
END:DAYLIGHT
BEGIN:STANDARD
TZNAME:GMT
TZOFFSETFROM:+0100
TZOFFSETTO:+0000
DTSTART:19701025T020000
RRULE:FREQ=YEARLY;BYMONTH=10;BYDAY=-1SU
END:STANDARD
END:VTIMEZONE
BEGIN:VEVENT
DTSTAMP:20260224T103956Z
UID:jan26a@clocktowerleam.com
DTSTART;TZID=Europe/London:20260108T190000
DTEND;TZID=Europe/London:20260108T230000
SUMMARY:Clocktower Leamington
URL:https://clocktowerleam.com/
LOCATION:The Royal Pug\, 141 Regent St\, Leamington Spa\, CV32 4NX
END:VEVENT
BEGIN:VEVENT
DTSTAMP:20260224T103956Z
UID:jan26b@clocktowerleam.com
DTSTART;TZID=Europe/London:20260121T190000
DTEND;TZID=Europe/London:20260121T230000
SUMMARY:Clocktower Leamington
URL:https://clocktowerleam.com/
LOCATION:The Royal Pug\, 141 Regent St\, Leamington Spa\, CV32 4NX
END:VEVENT
BEGIN:VEVENT
DTSTAMP:20260224T103956Z
UID:feb26a@clocktowerleam.com
DTSTART;TZID=Europe/London:20260205T190000
DTEND;TZID=Europe/London:20260205T230000
SUMMARY:Clocktower Leamington
URL:https://clocktowerleam.com/
LOCATION:The Royal Pug\, 141 Regent St\, Leamington Spa\, CV32 4NX
END:VEVENT
BEGIN:VEVENT
DTSTAMP:20260224T103956Z
UID:feb26b@clocktowerleam.com
DTSTART;TZID=Europe/London:20260218T190000
DTEND;TZID=Europe/London:20260218T230000
SUMMARY:Clocktower Leamington
URL:https://clocktowerleam.com/
LOCATION:The Royal Pug\, 141 Regent St\, Leamington Spa\, CV32 4NX
END:VEVENT
BEGIN:VEVENT
DTSTAMP:20260224T103956Z
UID:mar26a@clocktowerleam.com
DTSTART;TZID=Europe/London:20260305T190000
DTEND;TZID=Europe/London:20260305T230000
SUMMARY:Clocktower Leamington
URL:https://clocktowerleam.com/
LOCATION:The Royal Pug\, 141 Regent St\, Leamington Spa\, CV32 4NX
END:VEVENT
BEGIN:VEVENT
DTSTAMP:20260224T103956Z
UID:mar26b@clocktowerleam.com
DTSTART;TZID=Europe/London:20260318T190000
DTEND;TZID=Europe/London:20260318T230000
SUMMARY:Clocktower Leamington
URL:https://clocktowerleam.com/
LOCATION:The Royal Pug\, 141 Regent St\, Leamington Spa\, CV32 4NX
END:VEVENT
BEGIN:VEVENT
DTSTAMP:20260224T103956Z
UID:apr26a@clocktowerleam.com
DTSTART;TZID=Europe/London:20260402T190000
DTEND;TZID=Europe/London:20260402T230000
SUMMARY:Clocktower Leamington
URL:https://clocktowerleam.com/
LOCATION:The Royal Pug\, 141 Regent St\, Leamington Spa\, CV32 4NX
END:VEVENT
BEGIN:VEVENT
DTSTAMP:20260224T103956Z
UID:apr26b@clocktowerleam.com
DTSTART;TZID=Europe/London:20260421T190000
DTEND;TZID=Europe/London:20260421T230000
SUMMARY:Clocktower Leamington
URL:https://clocktowerleam.com/
LOCATION:The Royal Pug\, 141 Regent St\, Leamington Spa\, CV32 4NX
END:VEVENT
BEGIN:VEVENT
DTSTAMP:20260224T103956Z
UID:may26a@clocktowerleam.com
DTSTART;TZID=Europe/London:20260507T190000
DTEND;TZID=Europe/London:20260507T230000
SUMMARY:Clocktower Leamington
URL:https://clocktowerleam.com/
LOCATION:The Royal Pug\, 141 Regent St\, Leamington Spa\, CV32 4NX
END:VEVENT
BEGIN:VEVENT
DTSTAMP:20260224T103956Z
UID:may26b@clocktowerleam.com
DTSTART;TZID=Europe/London:20260519T190000
DTEND;TZID=Europe/London:20260519T230000
SUMMARY:Clocktower Leamington
URL:https://clocktowerleam.com/
LOCATION:The Royal Pug\, 141 Regent St\, Leamington Spa\, CV32 4NX
END:VEVENT
BEGIN:VEVENT
DTSTAMP:20260224T103956Z
UID:jun26a@clocktowerleam.com
DTSTART;TZID=Europe/London:20260604T190000
DTEND;TZID=Europe/London:20260604T230000
SUMMARY:Clocktower Leamington
URL:https://clocktowerleam.com/
LOCATION:The Royal Pug\, 141 Regent St\, Leamington Spa\, CV32 4NX
END:VEVENT
BEGIN:VEVENT
DTSTAMP:20260224T103956Z
UID:jun26b@clocktowerleam.com
DTSTART;TZID=Europe/London:20260616T190000
DTEND;TZID=Europe/London:20260616T230000
SUMMARY:Clocktower Leamington
URL:https://clocktowerleam.com/
LOCATION:The Royal Pug\, 141 Regent St\, Leamington Spa\, CV32 4NX
END:VEVENT
BEGIN:VEVENT
DTSTAMP:20260224T103956Z
UID:jul26a@clocktowerleam.com
DTSTART;TZID=Europe/London:20260702T190000
DTEND;TZID=Europe/London:20260702T230000
SUMMARY:Clocktower Leamington
URL:https://clocktowerleam.com/
LOCATION:The Royal Pug\, 141 Regent St\, Leamington Spa\, CV32 4NX
END:VEVENT
BEGIN:VEVENT
DTSTAMP:20260224T103956Z
UID:jul26b@clocktowerleam.com
DTSTART;TZID=Europe/London:20260721T190000
DTEND;TZID=Europe/London:20260721T230000
SUMMARY:Clocktower Leamington
URL:https://clocktowerleam.com/
LOCATION:The Royal Pug\, 141 Regent St\, Leamington Spa\, CV32 4NX
END:VEVENT
BEGIN:VEVENT
DTSTAMP:20260224T103956Z
UID:aug26a@clocktowerleam.com
DTSTART;TZID=Europe/London:20260806T190000
DTEND;TZID=Europe/London:20260806T230000
SUMMARY:Clocktower Leamington
URL:https://clocktowerleam.com/
LOCATION:The Royal Pug\, 141 Regent St\, Leamington Spa\, CV32 4NX
END:VEVENT
BEGIN:VEVENT
DTSTAMP:20260224T103956Z
UID:aug26b@clocktowerleam.com
DTSTART;TZID=Europe/London:20260818T190000
DTEND;TZID=Europe/London:20260818T230000
SUMMARY:Clocktower Leamington
URL:https://clocktowerleam.com/
LOCATION:The Royal Pug\, 141 Regent St\, Leamington Spa\, CV32 4NX
END:VEVENT
BEGIN:VEVENT
DTSTAMP:20260224T103956Z
UID:sep26a@clocktowerleam.com
DTSTART;TZID=Europe/London:20260903T190000
DTEND;TZID=Europe/London:20260903T230000
SUMMARY:Clocktower Leamington
URL:https://clocktowerleam.com/
LOCATION:The Royal Pug\, 141 Regent St\, Leamington Spa\, CV32 4NX
END:VEVENT
BEGIN:VEVENT
DTSTAMP:20260224T103956Z
UID:sep26b@clocktowerleam.com
DTSTART;TZID=Europe/London:20260915T190000
DTEND;TZID=Europe/London:20260915T230000
SUMMARY:Clocktower Leamington
URL:https://clocktowerleam.com/
LOCATION:The Royal Pug\, 141 Regent St\, Leamington Spa\, CV32 4NX
END:VEVENT
BEGIN:VEVENT
DTSTAMP:20260224T103956Z
UID:oct26a@clocktowerleam.com
DTSTART;TZID=Europe/London:20261001T190000
DTEND;TZID=Europe/London:20261001T230000
SUMMARY:Clocktower Leamington
URL:https://clocktowerleam.com/
LOCATION:The Royal Pug\, 141 Regent St\, Leamington Spa\, CV32 4NX
END:VEVENT
BEGIN:VEVENT
DTSTAMP:20260224T103956Z
UID:oct26b@clocktowerleam.com
DTSTART;TZID=Europe/London:20261020T190000
DTEND;TZID=Europe/London:20261020T230000
SUMMARY:Clocktower Leamington
URL:https://clocktowerleam.com/
LOCATION:The Royal Pug\, 141 Regent St\, Leamington Spa\, CV32 4NX
END:VEVENT
BEGIN:VEVENT
DTSTAMP:20260224T103956Z
UID:nov26a@clocktowerleam.com
DTSTART;TZID=Europe/London:20261105T190000
DTEND;TZID=Europe/London:20261105T230000
SUMMARY:Clocktower Leamington
URL:https://clocktowerleam.com/
LOCATION:The Royal Pug\, 141 Regent St\, Leamington Spa\, CV32 4NX
END:VEVENT
BEGIN:VEVENT
DTSTAMP:20260224T103956Z
UID:nov26b@clocktowerleam.com
DTSTART;TZID=Europe/London:20261117T190000
DTEND;TZID=Europe/London:20261117T230000
SUMMARY:Clocktower Leamington
URL:https://clocktowerleam.com/
LOCATION:The Royal Pug\, 141 Regent St\, Leamington Spa\, CV32 4NX
END:VEVENT
BEGIN:VEVENT
DTSTAMP:20260224T103956Z
UID:dec26a@clocktowerleam.com
DTSTART;TZID=Europe/London:20261203T190000
DTEND;TZID=Europe/London:20261203T230000
SUMMARY:Clocktower Leamington
URL:https://clocktowerleam.com/
LOCATION:The Royal Pug\, 141 Regent St\, Leamington Spa\, CV32 4NX
END:VEVENT
BEGIN:VEVENT
DTSTAMP:20260224T103956Z
UID:dec26b@clocktowerleam.com
DTSTART;TZID=Europe/London:20261215T190000
DTEND;TZID=Europe/London:20261215T230000
SUMMARY:Clocktower Leamington
URL:https://clocktowerleam.com/
LOCATION:The Royal Pug\, 141 Regent St\, Leamington Spa\, CV32 4NX
END:VEVENT
END:VCALENDAR